Workbook

Sheet Breakdown log
A1: Breakdown log
A2: One row per breakdown. Split the time into the four phases; the total fills in. Example rows are marked: delete them when you start.
A4: Date | B4: Machine | C4: Fault | D4: Checking (min) | E4: Waiting for a technician (min) | F4: Repairing (min) | G4: Repair on hold (min) | H4: Total (min) | I4: Note
B5: Filler | C5: Seal fault | D5: 3 | E5: 8 | F5: 7 | G5: 2 | H5: =IF(COUNT(D5:G5)=0,"",SUM(D5:G5)) | I5: Example row
B6: Filler | C6: Seal fault | D6: 4 | E6: 10 | F6: 8 | G6: 3 | H6: =IF(COUNT(D6:G6)=0,"",SUM(D6:G6)) | I6: Example row
B7: Filler | C7: Infeed jam | D7: 4 | E7: 12 | F7: 10 | G7: 4 | H7: =IF(COUNT(D7:G7)=0,"",SUM(D7:G7)) | I7: Example row
B8: Filler | C8: Infeed jam | D8: 5 | E8: 13 | F8: 12 | G8: 5 | H8: =IF(COUNT(D8:G8)=0,"",SUM(D8:G8)) | I8: Example row
B9: Filler | C9: Capper torque | D9: 5 | E9: 15 | F9: 14 | G9: 6 | H9: =IF(COUNT(D9:G9)=0,"",SUM(D9:G9)) | I9: Example row
B10: Filler | C10: Seal fault | D10: 4 | E10: 12 | F10: 10 | G10: 4 | H10: =IF(COUNT(D10:G10)=0,"",SUM(D10:G10)) | I10: Example row
B11: Filler | C11: Capper torque | D11: 4 | E11: 12 | F11: 10 | G11: 4 | H11: =IF(COUNT(D11:G11)=0,"",SUM(D11:G11)) | I11: Example row
B12: Filler | C12: Infeed jam | D12: 3 | E12: 10 | F12: 9 | G12: 3 | H12: =IF(COUNT(D12:G12)=0,"",SUM(D12:G12)) | I12: Example row
B13: Filler | C13: Seal fault | D13: 5 | E13: 14 | F13: 11 | G13: 5 | H13: =IF(COUNT(D13:G13)=0,"",SUM(D13:G13)) | I13: Example row
B14: Filler | C14: Capper torque | D14: 4 | E14: 12 | F14: 10 | G14: 4 | H14: =IF(COUNT(D14:G14)=0,"",SUM(D14:G14)) | I14: Example row
H15: =IF(COUNT(D15:G15)=0,"",SUM(D15:G15))
H16: =IF(COUNT(D16:G16)=0,"",SUM(D16:G16))
H17: =IF(COUNT(D17:G17)=0,"",SUM(D17:G17))
H18: =IF(COUNT(D18:G18)=0,"",SUM(D18:G18))
H19: =IF(COUNT(D19:G19)=0,"",SUM(D19:G19))
H20: =IF(COUNT(D20:G20)=0,"",SUM(D20:G20))
H21: =IF(COUNT(D21:G21)=0,"",SUM(D21:G21))
H22: =IF(COUNT(D22:G22)=0,"",SUM(D22:G22))
H23: =IF(COUNT(D23:G23)=0,"",SUM(D23:G23))
H24: =IF(COUNT(D24:G24)=0,"",SUM(D24:G24))
H25: =IF(COUNT(D25:G25)=0,"",SUM(D25:G25))
H26: =IF(COUNT(D26:G26)=0,"",SUM(D26:G26))
... H304: =IF(COUNT(D304:G304)=0,"",SUM(D304:G304))

Sheet Run time
A1: Run time
A2: For each machine, the hours it ran in the period: planned time less all stops. MTBF needs this.
A4: Machine | B4: Run time (hours) | C4: Period
A5: Filler | B5: 400 | C5: One month (example)

Sheet Results by machine
A1: Results by machine
A2: MTTR = breakdown time ÷ breakdowns. MTBF = run time ÷ breakdowns. Availability from breakdowns = MTBF ÷ (MTBF + MTTR).
A4: Machine | B4: Breakdowns | C4: Breakdown time (min) | D4: MTTR (min) | E4: Run time (h) | F4: MTBF (h) | G4: Availability from breakdowns | H4: Mean time to respond (min) | I4: Avg checking (min) | J4: Avg waiting (min) | K4: Avg repairing (min) | L4: Avg on hold (min)
A5: =IF('Run time'!A5="","",'Run time'!A5) | B5: =IF(A5="","",COUNTIF('Breakdown log'!$B$5:$B$304,A5)) | C5: =IF(A5="","",SUMIF('Breakdown log'!$B$5:$B$304,A5,'Breakdown log'!$H$5:$H$304)) | D5: =IF(OR(A5="",B5=0),"",C5/B5) | E5: =IF(A5="","",'Run time'!B5) | F5: =IF(OR(A5="",B5=0),"",E5/B5) | G5: =IF(OR(F5="",D5=""),"",F5/(F5+D5/60)) | H5: =IF(OR(A5="",B5=0),"",(SUMIF('Breakdown log'!$B$5:$B$304,A5,'Breakdown log'!$D$5:$D$304)+SUMIF('Breakdown log'!$B$5:$B$304,A5,'Breakdown log'!$E$5:$E$304))/B5) | I5: =IF(OR(A5="",B5=0),"",SUMIF('Breakdown log'!$B$5:$B$304,A5,'Breakdown log'!$D$5:$D$304)/B5) | J5: =IF(OR(A5="",B5=0),"",SUMIF('Breakdown log'!$B$5:$B$304,A5,'Breakdown log'!$E$5:$E$304)/B5) | K5: =IF(OR(A5="",B5=0),"",SUMIF('Breakdown log'!$B$5:$B$304,A5,'Breakdown log'!$F$5:$F$304)/B5) | L5: =IF(OR(A5="",B5=0),"",SUMIF('Breakdown log'!$B$5:$B$304,A5,'Breakdown log'!$G$5:$G$304)/B5)
A6: =IF('Run time'!A6="","",'Run time'!A6) | B6: =IF(A6="","",COUNTIF('Breakdown log'!$B$5:$B$304,A6)) | C6: =IF(A6="","",SUMIF('Breakdown log'!$B$5:$B$304,A6,'Breakdown log'!$H$5:$H$304)) | D6: =IF(OR(A6="",B6=0),"",C6/B6) | E6: =IF(A6="","",'Run time'!B6) | F6: =IF(OR(A6="",B6=0),"",E6/B6) | G6: =IF(OR(F6="",D6=""),"",F6/(F6+D6/60)) | H6: =IF(OR(A6="",B6=0),"",(SUMIF('Breakdown log'!$B$5:$B$304,A6,'Breakdown log'!$D$5:$D$304)+SUMIF('Breakdown log'!$B$5:$B$304,A6,'Breakdown log'!$E$5:$E$304))/B6) | I6: =IF(OR(A6="",B6=0),"",SUMIF('Breakdown log'!$B$5:$B$304,A6,'Breakdown log'!$D$5:$D$304)/B6) | J6: =IF(OR(A6="",B6=0),"",SUMIF('Breakdown log'!$B$5:$B$304,A6,'Breakdown log'!$E$5:$E$304)/B6) | K6: =IF(OR(A6="",B6=0),"",SUMIF('Breakdown log'!$B$5:$B$304,A6,'Breakdown log'!$F$5:$F$304)/B6) | L6: =IF(OR(A6="",B6=0),"",SUMIF('Breakdown log'!$B$5:$B$304,A6,'Breakdown log'!$G$5:$G$304)/B6)
A7: =IF('Run time'!A7="","",'Run time'!A7) | B7: =IF(A7="","",COUNTIF('Breakdown log'!$B$5:$B$304,A7)) | C7: =IF(A7="","",SUMIF('Breakdown log'!$B$5:$B$304,A7,'Breakdown log'!$H$5:$H$304)) | D7: =IF(OR(A7="",B7=0),"",C7/B7) | E7: =IF(A7="","",'Run time'!B7) | F7: =IF(OR(A7="",B7=0),"",E7/B7) | G7: =IF(OR(F7="",D7=""),"",F7/(F7+D7/60)) | H7: =IF(OR(A7="",B7=0),"",(SUMIF('Breakdown log'!$B$5:$B$304,A7,'Breakdown log'!$D$5:$D$304)+SUMIF('Breakdown log'!$B$5:$B$304,A7,'Breakdown log'!$E$5:$E$304))/B7) | I7: =IF(OR(A7="",B7=0),"",SUMIF('Breakdown log'!$B$5:$B$304,A7,'Breakdown log'!$D$5:$D$304)/B7) | J7: =IF(OR(A7="",B7=0),"",SUMIF('Breakdown log'!$B$5:$B$304,A7,'Breakdown log'!$E$5:$E$304)/B7) | K7: =IF(OR(A7="",B7=0),"",SUMIF('Breakdown log'!$B$5:$B$304,A7,'Breakdown log'!$F$5:$F$304)/B7) | L7: =IF(OR(A7="",B7=0),"",SUMIF('Breakdown log'!$B$5:$B$304,A7,'Breakdown log'!$G$5:$G$304)/B7)
A8: =IF('Run time'!A8="","",'Run time'!A8) | B8: =IF(A8="","",COUNTIF('Breakdown log'!$B$5:$B$304,A8)) | C8: =IF(A8="","",SUMIF('Breakdown log'!$B$5:$B$304,A8,'Breakdown log'!$H$5:$H$304)) | D8: =IF(OR(A8="",B8=0),"",C8/B8) | E8: =IF(A8="","",'Run time'!B8) | F8: =IF(OR(A8="",B8=0),"",E8/B8) | G8: =IF(OR(F8="",D8=""),"",F8/(F8+D8/60)) | H8: =IF(OR(A8="",B8=0),"",(SUMIF('Breakdown log'!$B$5:$B$304,A8,'Breakdown log'!$D$5:$D$304)+SUMIF('Breakdown log'!$B$5:$B$304,A8,'Breakdown log'!$E$5:$E$304))/B8) | I8: =IF(OR(A8="",B8=0),"",SUMIF('Breakdown log'!$B$5:$B$304,A8,'Breakdown log'!$D$5:$D$304)/B8) | J8: =IF(OR(A8="",B8=0),"",SUMIF('Breakdown log'!$B$5:$B$304,A8,'Breakdown log'!$E$5:$E$304)/B8) | K8: =IF(OR(A8="",B8=0),"",SUMIF('Breakdown log'!$B$5:$B$304,A8,'Breakdown log'!$F$5:$F$304)/B8) | L8: =IF(OR(A8="",B8=0),"",SUMIF('Breakdown log'!$B$5:$B$304,A8,'Breakdown log'!$G$5:$G$304)/B8)
A9: =IF('Run time'!A9="","",'Run time'!A9) | B9: =IF(A9="","",COUNTIF('Breakdown log'!$B$5:$B$304,A9)) | C9: =IF(A9="","",SUMIF('Breakdown log'!$B$5:$B$304,A9,'Breakdown log'!$H$5:$H$304)) | D9: =IF(OR(A9="",B9=0),"",C9/B9) | E9: =IF(A9="","",'Run time'!B9) | F9: =IF(OR(A9="",B9=0),"",E9/B9) | G9: =IF(OR(F9="",D9=""),"",F9/(F9+D9/60)) | H9: =IF(OR(A9="",B9=0),"",(SUMIF('Breakdown log'!$B$5:$B$304,A9,'Breakdown log'!$D$5:$D$304)+SUMIF('Breakdown log'!$B$5:$B$304,A9,'Breakdown log'!$E$5:$E$304))/B9) | I9: =IF(OR(A9="",B9=0),"",SUMIF('Breakdown log'!$B$5:$B$304,A9,'Breakdown log'!$D$5:$D$304)/B9) | J9: =IF(OR(A9="",B9=0),"",SUMIF('Breakdown log'!$B$5:$B$304,A9,'Breakdown log'!$E$5:$E$304)/B9) | K9: =IF(OR(A9="",B9=0),"",SUMIF('Breakdown log'!$B$5:$B$304,A9,'Breakdown log'!$F$5:$F$304)/B9) | L9: =IF(OR(A9="",B9=0),"",SUMIF('Breakdown log'!$B$5:$B$304,A9,'Breakdown log'!$G$5:$G$304)/B9)
A10: =IF('Run time'!A10="","",'Run time'!A10) | B10: =IF(A10="","",COUNTIF('Breakdown log'!$B$5:$B$304,A10)) | C10: =IF(A10="","",SUMIF('Breakdown log'!$B$5:$B$304,A10,'Breakdown log'!$H$5:$H$304)) | D10: =IF(OR(A10="",B10=0),"",C10/B10) | E10: =IF(A10="","",'Run time'!B10) | F10: =IF(OR(A10="",B10=0),"",E10/B10) | G10: =IF(OR(F10="",D10=""),"",F10/(F10+D10/60)) | H10: =IF(OR(A10="",B10=0),"",(SUMIF('Breakdown log'!$B$5:$B$304,A10,'Breakdown log'!$D$5:$D$304)+SUMIF('Breakdown log'!$B$5:$B$304,A10,'Breakdown log'!$E$5:$E$304))/B10) | I10: =IF(OR(A10="",B10=0),"",SUMIF('Breakdown log'!$B$5:$B$304,A10,'Breakdown log'!$D$5:$D$304)/B10) | J10: =IF(OR(A10="",B10=0),"",SUMIF('Breakdown log'!$B$5:$B$304,A10,'Breakdown log'!$E$5:$E$304)/B10) | K10: =IF(OR(A10="",B10=0),"",SUMIF('Breakdown log'!$B$5:$B$304,A10,'Breakdown log'!$F$5:$F$304)/B10) | L10: =IF(OR(A10="",B10=0),"",SUMIF('Breakdown log'!$B$5:$B$304,A10,'Breakdown log'!$G$5:$G$304)/B10)
A11: =IF('Run time'!A11="","",'Run time'!A11) | B11: =IF(A11="","",COUNTIF('Breakdown log'!$B$5:$B$304,A11)) | C11: =IF(A11="","",SUMIF('Breakdown log'!$B$5:$B$304,A11,'Breakdown log'!$H$5:$H$304)) | D11: =IF(OR(A11="",B11=0),"",C11/B11) | E11: =IF(A11="","",'Run time'!B11) | F11: =IF(OR(A11="",B11=0),"",E11/B11) | G11: =IF(OR(F11="",D11=""),"",F11/(F11+D11/60)) | H11: =IF(OR(A11="",B11=0),"",(SUMIF('Breakdown log'!$B$5:$B$304,A11,'Breakdown log'!$D$5:$D$304)+SUMIF('Breakdown log'!$B$5:$B$304,A11,'Breakdown log'!$E$5:$E$304))/B11) | I11: =IF(OR(A11="",B11=0),"",SUMIF('Breakdown log'!$B$5:$B$304,A11,'Breakdown log'!$D$5:$D$304)/B11) | J11: =IF(OR(A11="",B11=0),"",SUMIF('Breakdown log'!$B$5:$B$304,A11,'Breakdown log'!$E$5:$E$304)/B11) | K11: =IF(OR(A11="",B11=0),"",SUMIF('Breakdown log'!$B$5:$B$304,A11,'Breakdown log'!$F$5:$F$304)/B11) | L11: =IF(OR(A11="",B11=0),"",SUMIF('Breakdown log'!$B$5:$B$304,A11,'Breakdown log'!$G$5:$G$304)/B11)
A12: =IF('Run time'!A12="","",'Run time'!A12) | B12: =IF(A12="","",COUNTIF('Breakdown log'!$B$5:$B$304,A12)) | C12: =IF(A12="","",SUMIF('Breakdown log'!$B$5:$B$304,A12,'Breakdown log'!$H$5:$H$304)) | D12: =IF(OR(A12="",B12=0),"",C12/B12) | E12: =IF(A12="","",'Run time'!B12) | F12: =IF(OR(A12="",B12=0),"",E12/B12) | G12: =IF(OR(F12="",D12=""),"",F12/(F12+D12/60)) | H12: =IF(OR(A12="",B12=0),"",(SUMIF('Breakdown log'!$B$5:$B$304,A12,'Breakdown log'!$D$5:$D$304)+SUMIF('Breakdown log'!$B$5:$B$304,A12,'Breakdown log'!$E$5:$E$304))/B12) | I12: =IF(OR(A12="",B12=0),"",SUMIF('Breakdown log'!$B$5:$B$304,A12,'Breakdown log'!$D$5:$D$304)/B12) | J12: =IF(OR(A12="",B12=0),"",SUMIF('Breakdown log'!$B$5:$B$304,A12,'Breakdown log'!$E$5:$E$304)/B12) | K12: =IF(OR(A12="",B12=0),"",SUMIF('Breakdown log'!$B$5:$B$304,A12,'Breakdown log'!$F$5:$F$304)/B12) | L12: =IF(OR(A12="",B12=0),"",SUMIF('Breakdown log'!$B$5:$B$304,A12,'Breakdown log'!$G$5:$G$304)/B12)
A13: =IF('Run time'!A13="","",'Run time'!A13) | B13: =IF(A13="","",COUNTIF('Breakdown log'!$B$5:$B$304,A13)) | C13: =IF(A13="","",SUMIF('Breakdown log'!$B$5:$B$304,A13,'Breakdown log'!$H$5:$H$304)) | D13: =IF(OR(A13="",B13=0),"",C13/B13) | E13: =IF(A13="","",'Run time'!B13) | F13: =IF(OR(A13="",B13=0),"",E13/B13) | G13: =IF(OR(F13="",D13=""),"",F13/(F13+D13/60)) | H13: =IF(OR(A13="",B13=0),"",(SUMIF('Breakdown log'!$B$5:$B$304,A13,'Breakdown log'!$D$5:$D$304)+SUMIF('Breakdown log'!$B$5:$B$304,A13,'Breakdown log'!$E$5:$E$304))/B13) | I13: =IF(OR(A13="",B13=0),"",SUMIF('Breakdown log'!$B$5:$B$304,A13,'Breakdown log'!$D$5:$D$304)/B13) | J13: =IF(OR(A13="",B13=0),"",SUMIF('Breakdown log'!$B$5:$B$304,A13,'Breakdown log'!$E$5:$E$304)/B13) | K13: =IF(OR(A13="",B13=0),"",SUMIF('Breakdown log'!$B$5:$B$304,A13,'Breakdown log'!$F$5:$F$304)/B13) | L13: =IF(OR(A13="",B13=0),"",SUMIF('Breakdown log'!$B$5:$B$304,A13,'Breakdown log'!$G$5:$G$304)/B13)
A14: =IF('Run time'!A14="","",'Run time'!A14) | B14: =IF(A14="","",COUNTIF('Breakdown log'!$B$5:$B$304,A14)) | C14: =IF(A14="","",SUMIF('Breakdown log'!$B$5:$B$304,A14,'Breakdown log'!$H$5:$H$304)) | D14: =IF(OR(A14="",B14=0),"",C14/B14) | E14: =IF(A14="","",'Run time'!B14) | F14: =IF(OR(A14="",B14=0),"",E14/B14) | G14: =IF(OR(F14="",D14=""),"",F14/(F14+D14/60)) | H14: =IF(OR(A14="",B14=0),"",(SUMIF('Breakdown log'!$B$5:$B$304,A14,'Breakdown log'!$D$5:$D$304)+SUMIF('Breakdown log'!$B$5:$B$304,A14,'Breakdown log'!$E$5:$E$304))/B14) | I14: =IF(OR(A14="",B14=0),"",SUMIF('Breakdown log'!$B$5:$B$304,A14,'Breakdown log'!$D$5:$D$304)/B14) | J14: =IF(OR(A14="",B14=0),"",SUMIF('Breakdown log'!$B$5:$B$304,A14,'Breakdown log'!$E$5:$E$304)/B14) | K14: =IF(OR(A14="",B14=0),"",SUMIF('Breakdown log'!$B$5:$B$304,A14,'Breakdown log'!$F$5:$F$304)/B14) | L14: =IF(OR(A14="",B14=0),"",SUMIF('Breakdown log'!$B$5:$B$304,A14,'Breakdown log'!$G$5:$G$304)/B14)
A15: =IF('Run time'!A15="","",'Run time'!A15) | B15: =IF(A15="","",COUNTIF('Breakdown log'!$B$5:$B$304,A15)) | C15: =IF(A15="","",SUMIF('Breakdown log'!$B$5:$B$304,A15,'Breakdown log'!$H$5:$H$304)) | D15: =IF(OR(A15="",B15=0),"",C15/B15) | E15: =IF(A15="","",'Run time'!B15) | F15: =IF(OR(A15="",B15=0),"",E15/B15) | G15: =IF(OR(F15="",D15=""),"",F15/(F15+D15/60)) | H15: =IF(OR(A15="",B15=0),"",(SUMIF('Breakdown log'!$B$5:$B$304,A15,'Breakdown log'!$D$5:$D$304)+SUMIF('Breakdown log'!$B$5:$B$304,A15,'Breakdown log'!$E$5:$E$304))/B15) | I15: =IF(OR(A15="",B15=0),"",SUMIF('Breakdown log'!$B$5:$B$304,A15,'Breakdown log'!$D$5:$D$304)/B15) | J15: =IF(OR(A15="",B15=0),"",SUMIF('Breakdown log'!$B$5:$B$304,A15,'Breakdown log'!$E$5:$E$304)/B15) | K15: =IF(OR(A15="",B15=0),"",SUMIF('Breakdown log'!$B$5:$B$304,A15,'Breakdown log'!$F$5:$F$304)/B15) | L15: =IF(OR(A15="",B15=0),"",SUMIF('Breakdown log'!$B$5:$B$304,A15,'Breakdown log'!$G$5:$G$304)/B15)
A16: =IF('Run time'!A16="","",'Run time'!A16) | B16: =IF(A16="","",COUNTIF('Breakdown log'!$B$5:$B$304,A16)) | C16: =IF(A16="","",SUMIF('Breakdown log'!$B$5:$B$304,A16,'Breakdown log'!$H$5:$H$304)) | D16: =IF(OR(A16="",B16=0),"",C16/B16) | E16: =IF(A16="","",'Run time'!B16) | F16: =IF(OR(A16="",B16=0),"",E16/B16) | G16: =IF(OR(F16="",D16=""),"",F16/(F16+D16/60)) | H16: =IF(OR(A16="",B16=0),"",(SUMIF('Breakdown log'!$B$5:$B$304,A16,'Breakdown log'!$D$5:$D$304)+SUMIF('Breakdown log'!$B$5:$B$304,A16,'Breakdown log'!$E$5:$E$304))/B16) | I16: =IF(OR(A16="",B16=0),"",SUMIF('Breakdown log'!$B$5:$B$304,A16,'Breakdown log'!$D$5:$D$304)/B16) | J16: =IF(OR(A16="",B16=0),"",SUMIF('Breakdown log'!$B$5:$B$304,A16,'Breakdown log'!$E$5:$E$304)/B16) | K16: =IF(OR(A16="",B16=0),"",SUMIF('Breakdown log'!$B$5:$B$304,A16,'Breakdown log'!$F$5:$F$304)/B16) | L16: =IF(OR(A16="",B16=0),"",SUMIF('Breakdown log'!$B$5:$B$304,A16,'Breakdown log'!$G$5:$G$304)/B16)
... A44: =IF('Run time'!A44="","",'Run time'!A44) | B44: =IF(A44="","",COUNTIF('Breakdown log'!$B$5:$B$304,A44)) | C44: =IF(A44="","",SUMIF('Breakdown log'!$B$5:$B$304,A44,'Breakdown log'!$H$5:$H$304)) | D44: =IF(OR(A44="",B44=0),"",C44/B44) | E44: =IF(A44="","",'Run time'!B44) | F44: =IF(OR(A44="",B44=0),"",E44/B44) | G44: =IF(OR(F44="",D44=""),"",F44/(F44+D44/60)) | H44: =IF(OR(A44="",B44=0),"",(SUMIF('Breakdown log'!$B$5:$B$304,A44,'Breakdown log'!$D$5:$D$304)+SUMIF('Breakdown log'!$B$5:$B$304,A44,'Breakdown log'!$E$5:$E$304))/B44) | I44: =IF(OR(A44="",B44=0),"",SUMIF('Breakdown log'!$B$5:$B$304,A44,'Breakdown log'!$D$5:$D$304)/B44) | J44: =IF(OR(A44="",B44=0),"",SUMIF('Breakdown log'!$B$5:$B$304,A44,'Breakdown log'!$E$5:$E$304)/B44) | K44: =IF(OR(A44="",B44=0),"",SUMIF('Breakdown log'!$B$5:$B$304,A44,'Breakdown log'!$F$5:$F$304)/B44) | L44: =IF(OR(A44="",B44=0),"",SUMIF('Breakdown log'!$B$5:$B$304,A44,'Breakdown log'!$G$5:$G$304)/B44)
A46: Mean time to respond is checking plus waiting: from the stop until the technician starts work. Convert MTTR to hours before adding it to MTBF.

Sheet Results by fault
A1: Results by fault
A2: Type each fault once in column A. Rank by total time: the most frequent fault is rarely the most expensive one.
A4: Fault | B4: Breakdowns | C4: Total (min) | D4: Average (min) | E4: Share of breakdown time
A5: Seal fault | B5: =IF(A5="","",COUNTIF('Breakdown log'!$C$5:$C$304,A5)) | C5: =IF(A5="","",SUMIF('Breakdown log'!$C$5:$C$304,A5,'Breakdown log'!$H$5:$H$304)) | D5: =IF(OR(A5="",B5=0),"",C5/B5) | E5: =IF(OR(A5="",SUM($C$5:$C$44)=0),"",C5/SUM($C$5:$C$44))
A6: Infeed jam | B6: =IF(A6="","",COUNTIF('Breakdown log'!$C$5:$C$304,A6)) | C6: =IF(A6="","",SUMIF('Breakdown log'!$C$5:$C$304,A6,'Breakdown log'!$H$5:$H$304)) | D6: =IF(OR(A6="",B6=0),"",C6/B6) | E6: =IF(OR(A6="",SUM($C$5:$C$44)=0),"",C6/SUM($C$5:$C$44))
A7: Capper torque | B7: =IF(A7="","",COUNTIF('Breakdown log'!$C$5:$C$304,A7)) | C7: =IF(A7="","",SUMIF('Breakdown log'!$C$5:$C$304,A7,'Breakdown log'!$H$5:$H$304)) | D7: =IF(OR(A7="",B7=0),"",C7/B7) | E7: =IF(OR(A7="",SUM($C$5:$C$44)=0),"",C7/SUM($C$5:$C$44))
B8: =IF(A8="","",COUNTIF('Breakdown log'!$C$5:$C$304,A8)) | C8: =IF(A8="","",SUMIF('Breakdown log'!$C$5:$C$304,A8,'Breakdown log'!$H$5:$H$304)) | D8: =IF(OR(A8="",B8=0),"",C8/B8) | E8: =IF(OR(A8="",SUM($C$5:$C$44)=0),"",C8/SUM($C$5:$C$44))
B9: =IF(A9="","",COUNTIF('Breakdown log'!$C$5:$C$304,A9)) | C9: =IF(A9="","",SUMIF('Breakdown log'!$C$5:$C$304,A9,'Breakdown log'!$H$5:$H$304)) | D9: =IF(OR(A9="",B9=0),"",C9/B9) | E9: =IF(OR(A9="",SUM($C$5:$C$44)=0),"",C9/SUM($C$5:$C$44))
B10: =IF(A10="","",COUNTIF('Breakdown log'!$C$5:$C$304,A10)) | C10: =IF(A10="","",SUMIF('Breakdown log'!$C$5:$C$304,A10,'Breakdown log'!$H$5:$H$304)) | D10: =IF(OR(A10="",B10=0),"",C10/B10) | E10: =IF(OR(A10="",SUM($C$5:$C$44)=0),"",C10/SUM($C$5:$C$44))
B11: =IF(A11="","",COUNTIF('Breakdown log'!$C$5:$C$304,A11)) | C11: =IF(A11="","",SUMIF('Breakdown log'!$C$5:$C$304,A11,'Breakdown log'!$H$5:$H$304)) | D11: =IF(OR(A11="",B11=0),"",C11/B11) | E11: =IF(OR(A11="",SUM($C$5:$C$44)=0),"",C11/SUM($C$5:$C$44))
B12: =IF(A12="","",COUNTIF('Breakdown log'!$C$5:$C$304,A12)) | C12: =IF(A12="","",SUMIF('Breakdown log'!$C$5:$C$304,A12,'Breakdown log'!$H$5:$H$304)) | D12: =IF(OR(A12="",B12=0),"",C12/B12) | E12: =IF(OR(A12="",SUM($C$5:$C$44)=0),"",C12/SUM($C$5:$C$44))
B13: =IF(A13="","",COUNTIF('Breakdown log'!$C$5:$C$304,A13)) | C13: =IF(A13="","",SUMIF('Breakdown log'!$C$5:$C$304,A13,'Breakdown log'!$H$5:$H$304)) | D13: =IF(OR(A13="",B13=0),"",C13/B13) | E13: =IF(OR(A13="",SUM($C$5:$C$44)=0),"",C13/SUM($C$5:$C$44))
B14: =IF(A14="","",COUNTIF('Breakdown log'!$C$5:$C$304,A14)) | C14: =IF(A14="","",SUMIF('Breakdown log'!$C$5:$C$304,A14,'Breakdown log'!$H$5:$H$304)) | D14: =IF(OR(A14="",B14=0),"",C14/B14) | E14: =IF(OR(A14="",SUM($C$5:$C$44)=0),"",C14/SUM($C$5:$C$44))
B15: =IF(A15="","",COUNTIF('Breakdown log'!$C$5:$C$304,A15)) | C15: =IF(A15="","",SUMIF('Breakdown log'!$C$5:$C$304,A15,'Breakdown log'!$H$5:$H$304)) | D15: =IF(OR(A15="",B15=0),"",C15/B15) | E15: =IF(OR(A15="",SUM($C$5:$C$44)=0),"",C15/SUM($C$5:$C$44))
B16: =IF(A16="","",COUNTIF('Breakdown log'!$C$5:$C$304,A16)) | C16: =IF(A16="","",SUMIF('Breakdown log'!$C$5:$C$304,A16,'Breakdown log'!$H$5:$H$304)) | D16: =IF(OR(A16="",B16=0),"",C16/B16) | E16: =IF(OR(A16="",SUM($C$5:$C$44)=0),"",C16/SUM($C$5:$C$44))
B17: =IF(A17="","",COUNTIF('Breakdown log'!$C$5:$C$304,A17)) | C17: =IF(A17="","",SUMIF('Breakdown log'!$C$5:$C$304,A17,'Breakdown log'!$H$5:$H$304)) | D17: =IF(OR(A17="",B17=0),"",C17/B17) | E17: =IF(OR(A17="",SUM($C$5:$C$44)=0),"",C17/SUM($C$5:$C$44))
B18: =IF(A18="","",COUNTIF('Breakdown log'!$C$5:$C$304,A18)) | C18: =IF(A18="","",SUMIF('Breakdown log'!$C$5:$C$304,A18,'Breakdown log'!$H$5:$H$304)) | D18: =IF(OR(A18="",B18=0),"",C18/B18) | E18: =IF(OR(A18="",SUM($C$5:$C$44)=0),"",C18/SUM($C$5:$C$44))
B19: =IF(A19="","",COUNTIF('Breakdown log'!$C$5:$C$304,A19)) | C19: =IF(A19="","",SUMIF('Breakdown log'!$C$5:$C$304,A19,'Breakdown log'!$H$5:$H$304)) | D19: =IF(OR(A19="",B19=0),"",C19/B19) | E19: =IF(OR(A19="",SUM($C$5:$C$44)=0),"",C19/SUM($C$5:$C$44))
... B44: =IF(A44="","",COUNTIF('Breakdown log'!$C$5:$C$304,A44)) | C44: =IF(A44="","",SUMIF('Breakdown log'!$C$5:$C$304,A44,'Breakdown log'!$H$5:$H$304)) | D44: =IF(OR(A44="",B44=0),"",C44/B44) | E44: =IF(OR(A44="",SUM($C$5:$C$44)=0),"",C44/SUM($C$5:$C$44))

Sheet How to use
A1: How to use this template
A2: From the Augos guide to MTTR and MTBF: augos.co.za/factory/learn/mttr-mtbf/
A4: Step | B4: What to do
A5: 1. Log every breakdown | B5: One row per breakdown on the Breakdown log tab, with the machine, the fault and the minutes in each phase.
A6: 2. The four phases | B6: Checking: the operator looks first. Waiting: from the call until a technician arrives. Repairing: hands on the machine. On hold: the repair stands still, for parts or a decision.
A7: 3. Enter run time | B7: On the Run time tab, the hours each machine ran in the period: planned time less all stops.
A8: 4. Read the results | B8: Results by machine gives MTTR, MTBF, availability and mean time to respond. Results by fault ranks faults by time.
A9: 5. Compare like with like | B9: Use the same period and the same definition of a breakdown for every machine.
A10: The worked example | B10: The example filler: 10 breakdowns, 300 minutes, 400 hours of run time. MTTR 30 min, MTBF 40 h, availability 98.8%. Illustrative, not a customer.
A11: Augos Factory | B11: Maintenance calls time every phase automatically: R250 per technician per month, ex VAT. augos.co.za/factory/optional-extras/maintenance-calls/
